BEGIN:VCALENDAR
VERSION:2.0
PRODID:-//Squarespace Inc/Squarespace 6//v6//EN
BEGIN:VEVENT
UID:5b0e3c5c6d2a73f6c90fa9e7@squarespace.com
DTSTAMP:20180530T055739Z
DTSTART:20180607T090000Z
DTEND:20180607T130000Z
SUMMARY:Mad Hatters Tea Party - a very un-birthday indeed
END:VEVENT
END:VCALENDAR
