BEGIN:VCALENDAR
VERSION:2.0
PRODID:-//Squarespace Inc/Squarespace 6//v6//EN
BEGIN:VEVENT
UID:5c5d41a2b208fcb27d0771d5@squarespace.com
DTSTAMP:20190213T021531Z
DTSTART:20190309T010000Z
DTEND:20190309T051500Z
SUMMARY:F&amp\;CK FIESTA
GEO:-37.313631;144.138585
LOCATION:Frank and Connies Kitchen\, 97 Main Road\, Hepburn Springs\, VIC\, 
 3461\, Australia
END:VEVENT
END:VCALENDAR
